Package: DMCFB Version: 1.20.0 Command: /Library/Frameworks/R.framework/Resources/bin/R CMD check --install=check:DMCFB.install-out.txt --library=/Library/Frameworks/R.framework/Resources/library --no-vignettes --timings DMCFB_1.20.0.tar.gz StartedAt: 2025-02-04 18:16:02 -0500 (Tue, 04 Feb 2025) EndedAt: 2025-02-04 18:22:44 -0500 (Tue, 04 Feb 2025) EllapsedTime: 401.4 seconds RetCode: 0 Status: OK CheckDir: DMCFB.Rcheck Warnings: 0