Package: DMCFB Version: 1.20.0 Command: /Library/Frameworks/R.framework/Resources/bin/R CMD INSTALL DMCFB StartedAt: 2025-02-03 15:52:44 -0500 (Mon, 03 Feb 2025) EndedAt: 2025-02-03 15:53:26 -0500 (Mon, 03 Feb 2025) EllapsedTime: 41.9 seconds RetCode: 0 Status: OK