Package: DMCFB Version: 1.20.0 Command: /Library/Frameworks/R.framework/Resources/bin/R CMD INSTALL DMCFB StartedAt: 2024-11-08 15:24:30 -0500 (Fri, 08 Nov 2024) EndedAt: 2024-11-08 15:24:43 -0500 (Fri, 08 Nov 2024) EllapsedTime: 13.1 seconds RetCode: 0 Status: OK