Package: DMCFB Version: 1.20.0 Command: /home/biocbuild/bbs-3.20-bioc/R/bin/R CMD build --keep-empty-dirs --no-resave-data --md5 DMCFB StartedAt: 2025-02-03 17:13:46 -0500 (Mon, 03 Feb 2025) EndedAt: 2025-02-03 17:15:08 -0500 (Mon, 03 Feb 2025) EllapsedTime: 82.1 seconds RetCode: 0 Status: OK PackageFile: DMCFB_1.20.0.tar.gz PackageFileSize: 1.054 MiB