Package: DMCFB Version: 1.20.0 Command: rm -rf DMCFB.buildbin-libdir && mkdir DMCFB.buildbin-libdir && F:\biocbuild\bbs-3.20-bioc\R\bin\R.exe CMD INSTALL --build --library=DMCFB.buildbin-libdir DMCFB_1.20.0.tar.gz StartedAt: 2025-02-04 08:23:33 -0500 (Tue, 04 Feb 2025) EndedAt: 2025-02-04 08:24:22 -0500 (Tue, 04 Feb 2025) EllapsedTime: 49.4 seconds RetCode: 0 Status: OK PackageFile: DMCFB_1.20.0.zip PackageFileSize: 1.077 MiB