Package: DMCFB Version: 1.20.0 Command: chmod a+r DMCFB -R && F:\biocbuild\bbs-3.20-bioc\R\bin\R.exe CMD build --keep-empty-dirs --no-resave-data DMCFB StartedAt: 2025-02-03 18:43:58 -0500 (Mon, 03 Feb 2025) EndedAt: 2025-02-03 18:45:19 -0500 (Mon, 03 Feb 2025) EllapsedTime: 80.3 seconds RetCode: 0 Status: OK PackageFile: DMCFB_1.20.0.tar.gz PackageFileSize: 970.9 KiB