Package: DMRcaller Version: 1.38.0 Command: rm -rf DMRcaller.buildbin-libdir && mkdir DMRcaller.buildbin-libdir && /Users/biocbuild/BBS/utils/build-universal.sh DMRcaller_1.38.0.tar.gz /Library/Frameworks/R.framework/Resources/bin/R DMRcaller.buildbin-libdir StartedAt: 2025-02-01 14:42:38 -0500 (Sat, 01 Feb 2025) EndedAt: 2025-02-01 14:42:56 -0500 (Sat, 01 Feb 2025) EllapsedTime: 18.1 seconds RetCode: 0 Status: OK PackageFile: DMRcaller_1.38.0.tgz PackageFileSize: 1.844 MiB