Package: DMRcaller Version: 1.38.0 Command: /Library/Frameworks/R.framework/Resources/bin/R CMD INSTALL DMRcaller StartedAt: 2025-02-03 15:26:14 -0500 (Mon, 03 Feb 2025) EndedAt: 2025-02-03 15:26:29 -0500 (Mon, 03 Feb 2025) EllapsedTime: 15.4 seconds RetCode: 0 Status: OK