Package: DMRcaller Version: 1.38.0 Command: /Library/Frameworks/R.framework/Resources/bin/R CMD build --keep-empty-dirs --no-resave-data DMRcaller StartedAt: 2025-02-10 18:31:31 -0500 (Mon, 10 Feb 2025) EndedAt: 2025-02-10 18:35:15 -0500 (Mon, 10 Feb 2025) EllapsedTime: 224.0 seconds RetCode: 0 Status: OK PackageFile: DMRcaller_1.38.0.tar.gz PackageFileSize: 1.633 MiB