Package: DMRcaller Version: 1.38.0 Command: /Library/Frameworks/R.framework/Resources/bin/R CMD INSTALL DMRcaller StartedAt: 2025-02-03 15:21:17 -0500 (Mon, 03 Feb 2025) EndedAt: 2025-02-03 15:21:50 -0500 (Mon, 03 Feb 2025) EllapsedTime: 33.0 seconds RetCode: 0 Status: OK