Package: DMRcaller Version: 1.38.0 Command: rm -rf DMRcaller.buildbin-libdir && mkdir DMRcaller.buildbin-libdir && F:\biocbuild\bbs-3.20-bioc\R\bin\R.exe CMD INSTALL --build --library=DMRcaller.buildbin-libdir DMRcaller_1.38.0.tar.gz StartedAt: 2025-02-04 08:23:37 -0500 (Tue, 04 Feb 2025) EndedAt: 2025-02-04 08:24:13 -0500 (Tue, 04 Feb 2025) EllapsedTime: 35.6 seconds RetCode: 0 Status: OK PackageFile: DMRcaller_1.38.0.zip PackageFileSize: 1.843 MiB