Package: DMRcate Version: 3.2.1 Command: /Library/Frameworks/R.framework/Resources/bin/R CMD build --keep-empty-dirs --no-resave-data DMRcate StartedAt: 2025-02-03 22:44:05 -0500 (Mon, 03 Feb 2025) EndedAt: 2025-02-03 23:03:31 -0500 (Mon, 03 Feb 2025) EllapsedTime: 1165.6 seconds RetCode: 0 Status: OK PackageFile: DMRcate_3.2.1.tar.gz PackageFileSize: 817.4 KiB