Package: DNABarcodeCompatibility Version: 1.22.0 Command: /Library/Frameworks/R.framework/Resources/bin/R CMD build --keep-empty-dirs --no-resave-data DNABarcodeCompatibility StartedAt: 2025-01-30 22:50:08 -0500 (Thu, 30 Jan 2025) EndedAt: 2025-01-30 22:51:13 -0500 (Thu, 30 Jan 2025) EllapsedTime: 65.1 seconds RetCode: 0 Status: OK PackageFile: DNABarcodeCompatibility_1.22.0.tar.gz PackageFileSize: 260.4 KiB