Package: DNABarcodeCompatibility Version: 1.22.0 Command: /home/biocbuild/R/R/bin/R CMD build --keep-empty-dirs --no-resave-data DNABarcodeCompatibility StartedAt: 2024-11-20 00:22:49 -0000 (Wed, 20 Nov 2024) EndedAt: 2024-11-20 00:24:40 -0000 (Wed, 20 Nov 2024) EllapsedTime: 111.1 seconds RetCode: 0 Status: OK PackageFile: DNABarcodeCompatibility_1.22.0.tar.gz PackageFileSize: 285 KiB