Package: DNABarcodeCompatibility Version: 1.22.0 Command: rm -rf DNABarcodeCompatibility.buildbin-libdir && mkdir DNABarcodeCompatibility.buildbin-libdir && /Users/biocbuild/BBS/utils/build-universal.sh DNABarcodeCompatibility_1.22.0.tar.gz /Library/Frameworks/R.framework/Resources/bin/R DNABarcodeCompatibility.buildbin-libdir StartedAt: 2025-01-31 12:42:34 -0500 (Fri, 31 Jan 2025) EndedAt: 2025-01-31 12:43:41 -0500 (Fri, 31 Jan 2025) EllapsedTime: 67.3 seconds RetCode: 0 Status: OK PackageFile: DNABarcodeCompatibility_1.22.0.tgz PackageFileSize: 388.2 KiB