Package: DNABarcodeCompatibility Version: 1.22.0 Command: /Library/Frameworks/R.framework/Resources/bin/R CMD check --install=check:DNABarcodeCompatibility.install-out.txt --library=/Library/Frameworks/R.framework/Resources/library --no-vignettes --timings DNABarcodeCompatibility_1.22.0.tar.gz StartedAt: 2025-01-31 03:11:04 -0500 (Fri, 31 Jan 2025) EndedAt: 2025-01-31 03:12:42 -0500 (Fri, 31 Jan 2025) EllapsedTime: 97.3 seconds RetCode: 0 Status: OK CheckDir: DNABarcodeCompatibility.Rcheck Warnings: 0