Package: DNABarcodeCompatibility Version: 1.22.0 Command: F:\biocbuild\bbs-3.20-bioc\R\bin\R.exe CMD INSTALL DNABarcodeCompatibility StartedAt: 2025-01-30 16:57:46 -0500 (Thu, 30 Jan 2025) EndedAt: 2025-01-30 16:59:55 -0500 (Thu, 30 Jan 2025) EllapsedTime: 129.7 seconds RetCode: 0 Status: OK