Package: DNABarcodeCompatibility Version: 1.22.0 Command: /home/biocbuild/R/R/bin/R CMD INSTALL DNABarcodeCompatibility StartedAt: 2025-01-30 21:07:24 -0000 (Thu, 30 Jan 2025) EndedAt: 2025-01-30 21:08:13 -0000 (Thu, 30 Jan 2025) EllapsedTime: 49.1 seconds RetCode: 0 Status: OK