Package: DNAcopy Version: 1.80.0 Command: /Library/Frameworks/R.framework/Resources/bin/R CMD build --keep-empty-dirs --no-resave-data DNAcopy StartedAt: 2025-02-03 22:45:35 -0500 (Mon, 03 Feb 2025) EndedAt: 2025-02-03 22:45:57 -0500 (Mon, 03 Feb 2025) EllapsedTime: 21.7 seconds RetCode: 0 Status: OK PackageFile: DNAcopy_1.80.0.tar.gz PackageFileSize: 405 KiB