Package: DNAcopy Version: 1.80.0 Command: /home/biocbuild/bbs-3.20-bioc/R/bin/R CMD check --install=check:DNAcopy.install-out.txt --library=/home/biocbuild/bbs-3.20-bioc/R/site-library --timings DNAcopy_1.80.0.tar.gz StartedAt: 2025-02-03 21:56:47 -0500 (Mon, 03 Feb 2025) EndedAt: 2025-02-03 21:57:12 -0500 (Mon, 03 Feb 2025) EllapsedTime: 25.0 seconds RetCode: 0 Status: OK CheckDir: DNAcopy.Rcheck Warnings: 0