Package: DNAcopy Version: 1.80.0 Command: rm -rf DNAcopy.buildbin-libdir && mkdir DNAcopy.buildbin-libdir && F:\biocbuild\bbs-3.20-bioc\R\bin\R.exe CMD INSTALL --build --library=DNAcopy.buildbin-libdir DNAcopy_1.80.0.tar.gz StartedAt: 2025-02-04 08:23:55 -0500 (Tue, 04 Feb 2025) EndedAt: 2025-02-04 08:24:09 -0500 (Tue, 04 Feb 2025) EllapsedTime: 14.1 seconds RetCode: 0 Status: OK PackageFile: DNAcopy_1.80.0.zip PackageFileSize: 552.3 KiB