Package: DNAcopy Version: 1.80.0 Command: chmod a+r DNAcopy -R && F:\biocbuild\bbs-3.20-bioc\R\bin\R.exe CMD build --keep-empty-dirs --no-resave-data DNAcopy StartedAt: 2025-02-10 18:39:49 -0500 (Mon, 10 Feb 2025) EndedAt: 2025-02-10 18:40:19 -0500 (Mon, 10 Feb 2025) EllapsedTime: 30.0 seconds RetCode: 0 Status: OK PackageFile: DNAcopy_1.80.0.tar.gz PackageFileSize: 291.7 KiB