Package: DNAfusion Version: 1.8.0 Command: /Library/Frameworks/R.framework/Resources/bin/R CMD INSTALL DNAfusion StartedAt: 2025-02-03 16:07:38 -0500 (Mon, 03 Feb 2025) EndedAt: 2025-02-03 16:08:18 -0500 (Mon, 03 Feb 2025) EllapsedTime: 39.8 seconds RetCode: 0 Status: OK