Package: DNAfusion
Version: 1.8.0
Command: /Library/Frameworks/R.framework/Resources/bin/R CMD INSTALL DNAfusion
StartedAt: 2024-11-08 15:29:23 -0500 (Fri, 08 Nov 2024)
EndedAt: 2024-11-08 15:29:35 -0500 (Fri, 08 Nov 2024)
EllapsedTime: 12.4 seconds
RetCode: 0
Status: OK