Package: DNAfusion
Version: 1.8.0
Command: /home/biocbuild/R/R/bin/R CMD build --keep-empty-dirs --no-resave-data DNAfusion
StartedAt: 2024-11-20 00:23:03 -0000 (Wed, 20 Nov 2024)
EndedAt: 2024-11-20 00:26:50 -0000 (Wed, 20 Nov 2024)
EllapsedTime: 226.3 seconds
RetCode: 0
Status: OK
PackageFile: DNAfusion_1.8.0.tar.gz
PackageFileSize: 6.325 <A href="http://en.wikipedia.org/wiki/MiB" target="_blank">MiB</A>