Package: DNAfusion Version: 1.8.0 Command: /home/biocbuild/R/R/bin/R CMD build --keep-empty-dirs --no-resave-data DNAfusion StartedAt: 2025-02-03 23:16:30 -0000 (Mon, 03 Feb 2025) EndedAt: 2025-02-03 23:19:49 -0000 (Mon, 03 Feb 2025) EllapsedTime: 199.1 seconds RetCode: 0 Status: OK PackageFile: DNAfusion_1.8.0.tar.gz PackageFileSize: 6.325 MiB