Package: DNAshapeR Version: 1.34.0 Command: /home/biocbuild/bbs-3.20-bioc/R/bin/R CMD build --keep-empty-dirs --no-resave-data --md5 DNAshapeR StartedAt: 2025-01-30 17:05:31 -0500 (Thu, 30 Jan 2025) EndedAt: 2025-01-30 17:06:29 -0500 (Thu, 30 Jan 2025) EllapsedTime: 58.1 seconds RetCode: 0 Status: OK PackageFile: DNAshapeR_1.34.0.tar.gz PackageFileSize: 1.1 MiB