Package: DNAshapeR Version: 1.34.0 Command: rm -rf DNAshapeR.buildbin-libdir && mkdir DNAshapeR.buildbin-libdir && F:\biocbuild\bbs-3.20-bioc\R\bin\R.exe CMD INSTALL --build --library=DNAshapeR.buildbin-libdir DNAshapeR_1.34.0.tar.gz StartedAt: 2025-01-31 08:34:03 -0500 (Fri, 31 Jan 2025) EndedAt: 2025-01-31 08:35:06 -0500 (Fri, 31 Jan 2025) EllapsedTime: 62.6 seconds RetCode: 0 Status: OK PackageFile: DNAshapeR_1.34.0.zip PackageFileSize: 1.439 MiB