Package: DNAshapeR Version: 1.34.0 Command: chmod a+r DNAshapeR -R && F:\biocbuild\bbs-3.20-bioc\R\bin\R.exe CMD build --keep-empty-dirs --no-resave-data DNAshapeR StartedAt: 2025-01-30 18:30:45 -0500 (Thu, 30 Jan 2025) EndedAt: 2025-01-30 18:34:05 -0500 (Thu, 30 Jan 2025) EllapsedTime: 200.5 seconds RetCode: 0 Status: OK PackageFile: DNAshapeR_1.34.0.tar.gz PackageFileSize: 994.4 KiB