Package: DNAshapeR Version: 1.34.0 Command: /home/biocbuild/R/R/bin/R CMD INSTALL DNAshapeR StartedAt: 2025-01-30 20:14:18 -0000 (Thu, 30 Jan 2025) EndedAt: 2025-01-30 20:15:13 -0000 (Thu, 30 Jan 2025) EllapsedTime: 54.8 seconds RetCode: 0 Status: OK