Package: DRIMSeq Version: 1.34.0 Command: rm -rf DRIMSeq.buildbin-libdir && mkdir DRIMSeq.buildbin-libdir && /Users/biocbuild/BBS/utils/build-universal.sh DRIMSeq_1.34.0.tar.gz /Library/Frameworks/R.framework/Resources/bin/R DRIMSeq.buildbin-libdir StartedAt: 2025-02-05 15:40:04 -0500 (Wed, 05 Feb 2025) EndedAt: 2025-02-05 15:40:22 -0500 (Wed, 05 Feb 2025) EllapsedTime: 17.8 seconds RetCode: 0 Status: OK PackageFile: DRIMSeq_1.34.0.tgz PackageFileSize: 779.3 KiB