Package: DRIMSeq Version: 1.34.0 Command: rm -rf DRIMSeq.buildbin-libdir && mkdir DRIMSeq.buildbin-libdir && /Users/biocbuild/BBS/utils/build-universal.sh DRIMSeq_1.34.0.tar.gz /Library/Frameworks/R.framework/Resources/bin/R DRIMSeq.buildbin-libdir StartedAt: 2025-02-04 12:51:57 -0500 (Tue, 04 Feb 2025) EndedAt: 2025-02-04 12:52:29 -0500 (Tue, 04 Feb 2025) EllapsedTime: 32.0 seconds RetCode: 0 Status: OK PackageFile: DRIMSeq_1.34.0.tgz PackageFileSize: 779.2 KiB