Package: DRIMSeq Version: 1.34.0 Command: /home/biocbuild/bbs-3.20-bioc/R/bin/R CMD build --keep-empty-dirs --no-resave-data --md5 DRIMSeq StartedAt: 2025-02-03 17:15:40 -0500 (Mon, 03 Feb 2025) EndedAt: 2025-02-03 17:17:55 -0500 (Mon, 03 Feb 2025) EllapsedTime: 135.2 seconds RetCode: 0 Status: OK PackageFile: DRIMSeq_1.34.0.tar.gz PackageFileSize: 485.4 KiB