Package: DRIMSeq Version: 1.34.0 Command: /home/biocbuild/bbs-3.20-bioc/R/bin/R CMD check --install=check:DRIMSeq.install-out.txt --library=/home/biocbuild/bbs-3.20-bioc/R/site-library --timings DRIMSeq_1.34.0.tar.gz StartedAt: 2025-02-03 21:58:41 -0500 (Mon, 03 Feb 2025) EndedAt: 2025-02-03 22:04:00 -0500 (Mon, 03 Feb 2025) EllapsedTime: 319.3 seconds RetCode: 0 Status: WARNINGS CheckDir: DRIMSeq.Rcheck Warnings: 1