Package: DRIMSeq
Version: 1.34.0
Command: F:\biocbuild\bbs-3.20-bioc\R\bin\R.exe CMD INSTALL DRIMSeq
StartedAt: 2025-02-17 15:39:09 -0500 (Mon, 17 Feb 2025)
EndedAt: 2025-02-17 15:39:53 -0500 (Mon, 17 Feb 2025)
EllapsedTime: 44.7 seconds
RetCode: 0
Status: OK