Package: DRIMSeq Version: 1.34.0 Command: /home/biocbuild/R/R/bin/R CMD build --keep-empty-dirs --no-resave-data DRIMSeq StartedAt: 2025-02-03 23:18:10 -0000 (Mon, 03 Feb 2025) EndedAt: 2025-02-03 23:21:42 -0000 (Mon, 03 Feb 2025) EllapsedTime: 212.1 seconds RetCode: 0 Status: OK PackageFile: DRIMSeq_1.34.0.tar.gz PackageFileSize: 473.4 KiB