Package: DSS
Version: 2.54.0
Maintainer: Hao Wu <hao.wu@emory.edu>, Hao Feng
MaintainerEmail: hxf155 at case.edu
git_url: https://git.bioconductor.org/packages/DSS
git_branch: RELEASE_3_20
git_last_commit: d18c722
git_last_commit_date: 2024-10-29 09:41:36 -0500 (Tue, 29 Oct 2024)