Package: DSS Version: 2.54.0 Command: rm -rf DSS.buildbin-libdir && mkdir DSS.buildbin-libdir && /Users/biocbuild/BBS/utils/build-universal.sh DSS_2.54.0.tar.gz /Library/Frameworks/R.framework/Resources/bin/R DSS.buildbin-libdir StartedAt: 2025-02-05 15:40:23 -0500 (Wed, 05 Feb 2025) EndedAt: 2025-02-05 15:41:15 -0500 (Wed, 05 Feb 2025) EllapsedTime: 51.9 seconds RetCode: 0 Status: OK PackageFile: DSS_2.54.0.tgz PackageFileSize: 1.602 MiB