Package: DSS Version: 2.54.0 Command: /Library/Frameworks/R.framework/Resources/bin/R CMD check --install=check:DSS.install-out.txt --library=/Library/Frameworks/R.framework/Resources/library --no-vignettes --timings DSS_2.54.0.tar.gz StartedAt: 2025-02-04 03:04:18 -0500 (Tue, 04 Feb 2025) EndedAt: 2025-02-04 03:14:47 -0500 (Tue, 04 Feb 2025) EllapsedTime: 629.6 seconds RetCode: 0 Status: WARNINGS CheckDir: DSS.Rcheck Warnings: 1