Package: DSS Version: 2.54.0 Command: /Library/Frameworks/R.framework/Resources/bin/R CMD INSTALL DSS StartedAt: 2025-02-03 15:47:03 -0500 (Mon, 03 Feb 2025) EndedAt: 2025-02-03 15:48:28 -0500 (Mon, 03 Feb 2025) EllapsedTime: 84.5 seconds RetCode: 0 Status: OK