Package: DSS Version: 2.54.0 Command: chmod a+r DSS -R && F:\biocbuild\bbs-3.20-bioc\R\bin\R.exe CMD build --keep-empty-dirs --no-resave-data DSS StartedAt: 2025-02-03 18:47:26 -0500 (Mon, 03 Feb 2025) EndedAt: 2025-02-03 18:49:00 -0500 (Mon, 03 Feb 2025) EllapsedTime: 94.4 seconds RetCode: 0 Status: OK PackageFile: DSS_2.54.0.tar.gz PackageFileSize: 2.029 MiB