Package: DSS Version: 2.54.0 Command: /home/biocbuild/R/R/bin/R CMD build --keep-empty-dirs --no-resave-data DSS StartedAt: 2025-02-03 23:18:42 -0000 (Mon, 03 Feb 2025) EndedAt: 2025-02-03 23:19:57 -0000 (Mon, 03 Feb 2025) EllapsedTime: 75.0 seconds RetCode: 0 Status: OK PackageFile: DSS_2.54.0.tar.gz PackageFileSize: 2.093 MiB