Package: DSS Version: 2.54.0 Command: /home/biocbuild/R/R/bin/R CMD INSTALL DSS StartedAt: 2025-02-03 20:43:14 -0000 (Mon, 03 Feb 2025) EndedAt: 2025-02-03 20:44:02 -0000 (Mon, 03 Feb 2025) EllapsedTime: 48.4 seconds RetCode: 0 Status: OK