Package: DTA Version: 2.52.0 Command: rm -rf DTA.buildbin-libdir && mkdir DTA.buildbin-libdir && /Users/biocbuild/BBS/utils/build-universal.sh DTA_2.52.0.tar.gz /Library/Frameworks/R.framework/Resources/bin/R DTA.buildbin-libdir StartedAt: 2025-02-01 14:45:14 -0500 (Sat, 01 Feb 2025) EndedAt: 2025-02-01 14:45:24 -0500 (Sat, 01 Feb 2025) EllapsedTime: 10.0 seconds RetCode: 0 Status: OK PackageFile: DTA_2.52.0.tgz PackageFileSize: 9.298 MiB