Package: DTA Version: 2.52.0 Command: /Library/Frameworks/R.framework/Resources/bin/R CMD INSTALL DTA StartedAt: 2025-01-30 15:06:10 -0500 (Thu, 30 Jan 2025) EndedAt: 2025-01-30 15:06:17 -0500 (Thu, 30 Jan 2025) EllapsedTime: 7.3 seconds RetCode: 0 Status: OK