Package: DTA Version: 2.52.0 Command: rm -rf DTA.buildbin-libdir && mkdir DTA.buildbin-libdir && F:\biocbuild\bbs-3.20-bioc\R\bin\R.exe CMD INSTALL --build --library=DTA.buildbin-libdir DTA_2.52.0.tar.gz StartedAt: 2025-01-31 08:34:54 -0500 (Fri, 31 Jan 2025) EndedAt: 2025-01-31 08:35:16 -0500 (Fri, 31 Jan 2025) EllapsedTime: 22.4 seconds RetCode: 0 Status: OK PackageFile: DTA_2.52.0.zip PackageFileSize: 11.55 MiB