Package: DTA Version: 2.52.0 Command: /home/biocbuild/R/R/bin/R CMD build --keep-empty-dirs --no-resave-data DTA StartedAt: 2025-02-03 23:19:03 -0000 (Mon, 03 Feb 2025) EndedAt: 2025-02-03 23:25:00 -0000 (Mon, 03 Feb 2025) EllapsedTime: 357.1 seconds RetCode: 0 Status: OK PackageFile: DTA_2.52.0.tar.gz PackageFileSize: 10.69 MiB