Package: DTA Version: 2.52.0 Command: /home/biocbuild/R/R/bin/R CMD check --install=check:DTA.install-out.txt --library=/home/biocbuild/R/R/site-library --no-vignettes --timings DTA_2.52.0.tar.gz StartedAt: 2025-02-04 06:37:05 -0000 (Tue, 04 Feb 2025) EndedAt: 2025-02-04 06:41:18 -0000 (Tue, 04 Feb 2025) EllapsedTime: 253.4 seconds RetCode: 0 Status: OK CheckDir: DTA.Rcheck Warnings: 0