Package: Damsel Version: 1.2.0 Command: /Library/Frameworks/R.framework/Resources/bin/R CMD build --keep-empty-dirs --no-resave-data Damsel StartedAt: 2025-02-10 22:06:53 -0500 (Mon, 10 Feb 2025) EndedAt: 2025-02-10 22:09:48 -0500 (Mon, 10 Feb 2025) EllapsedTime: 174.5 seconds RetCode: 0 Status: OK PackageFile: Damsel_1.2.0.tar.gz PackageFileSize: 3.318 MiB