Package: Damsel Version: 1.2.0 Command: /home/biocbuild/R/R/bin/R CMD build --keep-empty-dirs --no-resave-data Damsel StartedAt: 2024-11-20 00:08:32 -0000 (Wed, 20 Nov 2024) EndedAt: 2024-11-20 00:12:27 -0000 (Wed, 20 Nov 2024) EllapsedTime: 235.3 seconds RetCode: 0 Status: OK PackageFile: Damsel_1.2.0.tar.gz PackageFileSize: 2.366 MiB